BEGIN:VCALENDAR
VERSION:2.0
PRODID:-//Kurz Ucitel a AI: nastroje, ktere davaji smysl//CZ
CALSCALE:GREGORIAN
BEGIN:VEVENT
DTSTAMP:20260208T142259Z
DTSTART:20260223T183000
DTEND:20260223T193000
SUMMARY:ChatGPT – pedagogické využití
DESCRIPTION:Online webinář – součást cyklu Učitel a AI: nástroje, které dávají smysl
END:VEVENT
BEGIN:VEVENT
DTSTAMP:20260208T142259Z
DTSTART:20260224T183000
DTEND:20260224T193000
SUMMARY:NotebookLM – práce s vlastními materiály
DESCRIPTION:Online webinář – součást cyklu Učitel a AI: nástroje, které dávají smysl
END:VEVENT
BEGIN:VEVENT
DTSTAMP:20260208T142259Z
DTSTART:20260302T183000
DTEND:20260302T193000
SUMMARY:Gamma – prezentace a výukové materiály
DESCRIPTION:Online webinář – součást cyklu Učitel a AI: nástroje, které dávají smysl
END:VEVENT
BEGIN:VEVENT
DTSTAMP:20260208T142259Z
DTSTART:20260303T183000
DTEND:20260303T193000
SUMMARY:Canva – AI funkce pro učitele
DESCRIPTION:Online webinář – součást cyklu Učitel a AI: nástroje, které dávají smysl
END:VEVENT
BEGIN:VEVENT
DTSTAMP:20260208T142259Z
DTSTART:20260316T183000
DTEND:20260316T193000
SUMMARY:Adobe Firefly (alternativy: DALL·E, Bing Image Creator)
DESCRIPTION:Online webinář – součást cyklu Učitel a AI: nástroje, které dávají smysl
END:VEVENT
BEGIN:VEVENT
DTSTAMP:20260208T142259Z
DTSTART:20260317T183000
DTEND:20260317T193000
SUMMARY:Diffit / Curipod
DESCRIPTION:Online webinář – součást cyklu Učitel a AI: nástroje, které dávají smysl
END:VEVENT
BEGIN:VEVENT
DTSTAMP:20260208T142259Z
DTSTART:20260323T183000
DTEND:20260323T193000
SUMMARY:Chatbase – vlastní chatbot pro školu / třídu
DESCRIPTION:Online webinář – součást cyklu Učitel a AI: nástroje, které dávají smysl
END:VEVENT
BEGIN:VEVENT
DTSTAMP:20260208T142259Z
DTSTART:20260324T183000
DTEND:20260324T193000
SUMMARY:Quizizz / Formative – AI kvízy a hodnocení
DESCRIPTION:Online webinář – součást cyklu Učitel a AI: nástroje, které dávají smysl
END:VEVENT
END:VCALENDAR